BEGIN:VCALENDAR
VERSION:2.0
PRODID:-//School of Design - ECPv4.3.0.1//NONSGML v1.0//EN
CALSCALE:GREGORIAN
METHOD:PUBLISH
X-WR-CALNAME:School of Design
X-ORIGINAL-URL:http://design.latech.edu
X-WR-CALDESC:Events for School of Design
BEGIN:VEVENT
DTSTART;TZID=UTC+0:20150502T100000
DTEND;TZID=UTC+0:20150502T160000
DTSTAMP:20260421T162522
CREATED:20150427T153707Z
LAST-MODIFIED:20150427T153707Z
UID:8974-1430560800-1430582400@design.latech.edu
SUMMARY:Discovering Design (NOMAS)
DESCRIPTION:In partnership with the Louisiana Tech School of Design\, NOMAS (National Organization of Minority Architecture Students) is offering an intensive one-­‐day interdisciplinary design experience that offers high school juniors and seniors a preview of the fields of architecture\, design technology\, art and design\, graphic design\, and interior design. The program provides an excellent means of acquiring both the basic information and practical experience needed in making an informed choice of major and in planning for a design education. Students will learn how design adds significant value to today’s competitive business world and how design can increase our quality of life. We are delighted to invite you to our first annual “Discovering Design” workshop of 2015. The event will take place on May 2nd. We present this letter in hopes that it will inspire your students to take advantage of this opportunity to join current S.O.D. students for a day of Design!\n\nThere aren’t any requirements or payments needed to participate; we only ask that you provide us with a list of names & emails with those who are interested before Friday\, April 24st. For more information\, please feel free to contact us. We look forward to hearing from you.\n\n \n\nFor additional information\, please contact:\n\nEphraim H. Fields\, NOMAS President ephraimhfields@gmail.com\n(318) 990 0851\n\nLonnie M. Bennett\, NOMAS Vice President Lmb043@latech.edu\n(318) 470 0083
URL:http://design.latech.edu/event/discovering-design-nomas/
LOCATION:Ruston\, LA\, United States
END:VEVENT
END:VCALENDAR