BEGIN:VCALENDAR
VERSION:2.0
PRODID:-//School of Design - ECPv4.3.0.1//NONSGML v1.0//EN
CALSCALE:GREGORIAN
METHOD:PUBLISH
X-WR-CALNAME:School of Design
X-ORIGINAL-URL:http://design.latech.edu
X-WR-CALDESC:Events for School of Design
BEGIN:VEVENT
DTSTART;TZID=UTC+0:20150407T090000
DTEND;TZID=UTC+0:20150410T160000
DTSTAMP:20260421T205216
CREATED:20150318T214353Z
LAST-MODIFIED:20150318T220804Z
UID:8876-1428397200-1428681600@design.latech.edu
SUMMARY:Exhibition: 2015 ANNUAL STUDENT SHOW
DESCRIPTION:The School of Design invites everyone to the opening reception of the Annual Student Show on Tuesday\, March 24. Over 500 works by undergraduate and graduate students\, including several from colleges in addition to the SOD were submitted to an outside juror. Of these submissions 61 works were chosen. Works on view include all levels of ceramics\, drawing\, graphic design\, painting\, photography\, artist’s books and sculpture\, as selected by Juror Richard Mc Cabe\, Curator of Photography at the Ogden Museum of Southern Art.\n\n \n\nFor more information contact:\n\nAsst. Prof. Nicole Duet\n\nGallery Director\n\nnduet@latech.edu\n\n(318) 257-3681
URL:http://design.latech.edu/event/exhibition-2015-annual-student-show-3/
LOCATION:Louisiana Tech University\, Ruston\, LA\, 71272\, United States
ATTACH;FMTTYPE=image/gif:http://design.latech.edu/wp-content/uploads/2015/03/Student-Show-Poster-2015.gif
END:VEVENT
END:VCALENDAR