BEGIN:VCALENDAR
VERSION:2.0
PRODID:-//School of Design - ECPv4.3.0.1//NONSGML v1.0//EN
CALSCALE:GREGORIAN
METHOD:PUBLISH
X-WR-CALNAME:School of Design
X-ORIGINAL-URL:http://design.latech.edu
X-WR-CALDESC:Events for School of Design
BEGIN:VEVENT
DTSTART;TZID=UTC+0:20150414T180000
DTEND;TZID=UTC+0:20150414T193000
DTSTAMP:20260421T175724
CREATED:20150413T215619Z
LAST-MODIFIED:20150413T215619Z
UID:8918-1429034400-1429039800@design.latech.edu
SUMMARY:Lecture: Kory Bieg (Architecture)
DESCRIPTION:Technique is EveryThing\n\nLecture by Kory Bieg\n\nTuesday\, 14 April at 6pm\n\nVisual Arts Center\, Room 103\n\nThe School of Design is happy to welcome architect Kory Bieg to the Louisiana Tech University campus.\n\nKory Bieg is an Assistant Professor at the School of Architecture at the University of Texas at Austin. His firm\, OTA+\, is an architecture\, design and research office that specializes in the application of digital technologies for projects of all types and scale. OTA+ has received awards for their design work and exhibited projects at galleries internationally\, including the SFMOMA\, the Architectural League of New York\, the Storefront for Art and Architecture\, and the Architectural Association in London.\n\nMr. Bieg received degrees from Columbia University and Washington University in St. Louis. Prior to teaching at University of Texas at Austin\, he also taught at California College of the Arts\, Academy of Art University\, and the University of California\, Berkeley. Mr. Bieg is a registered architect in the state of California\, Colorado and Texas.\n\nFor more information about the firm\, please visit: http://www.otaplus.com\n\nCONTACT\n\nFor more information\, please call the School of Design at 318.257.2816 or visit the School of Design website at http://www.design.latech.edu
URL:http://design.latech.edu/event/lecture-kory-bieg-architecture-2/
LOCATION:1 Mayfield \, Ruston\, LA\, 71272\, United States
ATTACH;FMTTYPE=image/jpeg:http://design.latech.edu/wp-content/uploads/2015/04/Bieg-Poster.jpg
END:VEVENT
END:VCALENDAR