BEGIN:VCALENDAR
VERSION:2.0
PRODID:-//School of Design - ECPv4.3.0.1//NONSGML v1.0//EN
CALSCALE:GREGORIAN
METHOD:PUBLISH
X-WR-CALNAME:School of Design
X-ORIGINAL-URL:http://design.latech.edu
X-WR-CALDESC:Events for School of Design
BEGIN:VEVENT
DTSTART;TZID=UTC+0:20150518T090000
DTEND;TZID=UTC+0:20150518T170000
DTSTAMP:20260423T092052
CREATED:20150512T140026Z
LAST-MODIFIED:20150512T140026Z
UID:8997-1431939600-1431968400@design.latech.edu
SUMMARY:Master of Architecture Final Reviews
DESCRIPTION:
URL:http://design.latech.edu/event/master-of-architecture-final-reviews/
LOCATION:202 North Vienna Street\, Ruston\, LA\, 71270\, United States
END:VEVENT
END:VCALENDAR