BEGIN:VCALENDAR
VERSION:2.0
PRODID:-//School of Design - ECPv4.3.0.1//NONSGML v1.0//EN
CALSCALE:GREGORIAN
METHOD:PUBLISH
X-WR-CALNAME:School of Design
X-ORIGINAL-URL:http://design.latech.edu
X-WR-CALDESC:Events for School of Design
BEGIN:VEVENT
DTSTART;TZID=UTC+0:20150417T170000
DTEND;TZID=UTC+0:20150417T183000
DTSTAMP:20260421T175109
CREATED:20150414T005632Z
LAST-MODIFIED:20150414T005632Z
UID:8925-1429290000-1429295400@design.latech.edu
SUMMARY:Opening: Material Landscapes
DESCRIPTION:\n\nExhibition Opening: Material Landscapes \nFriday\, 17 April from 5-6:30pm\nHale Hall Gallery\n\n\n\n\n\nThe work of eight award-winning landscape architecture firms will be featured in the exhibition Material Landscapes\, which includes project photographs and drawings. The projects specifically emphasize the employment of materials in landscape design which critically engage contemporary design issues in landscape architecture. Projects such as Stoss’ award winning Erie Street Plaza in Milwaukee are included. The exhibition features work by the following firms: D.I.R.T. studio; dlandstudio; ESKYIU; Kaseman Beckman Advanced Strategies (KBAS); Legge Lewis Legge; PEG office of landscape + architecture; Stoss Landscape Urbanism; and WANTED Landscape\, LLC.\n\n\n\nPlease join us for a gallery opening reception on Friday\, April 17 from 5 – 6:30 p.m. Gallery hours are Monday through Friday 9 am – 5 pm; or by appointment. The exhibition will run through May 2 in the first floor gallery of Hale Hall.\n\n\n\nThe exhibition is curated by Liane Hancock\, Assistant Professor of Architecture in the School of Design\, College of Liberal Arts at Louisiana Tech University. If you wish to schedule a visit outside of typical gallery hours\, please contact Liane Hancock at lianeh@latech.edu. \n\n\n\n\n\n\n\n
URL:http://design.latech.edu/event/opening-material-landscapes/
LOCATION:Ruston\, LA\, United States
END:VEVENT
END:VCALENDAR