BEGIN:VCALENDAR
VERSION:2.0
PRODID:-//School of Design - ECPv4.3.0.1//NONSGML v1.0//EN
CALSCALE:GREGORIAN
METHOD:PUBLISH
X-WR-CALNAME:School of Design
X-ORIGINAL-URL:http://design.latech.edu
X-WR-CALDESC:Events for School of Design
BEGIN:VEVENT
DTSTART;TZID=UTC+0:20150508T160000
DTEND;TZID=UTC+0:20150508T180000
DTSTAMP:20260421T162204
CREATED:20150414T005342Z
LAST-MODIFIED:20150507T022515Z
UID:8923-1431100800-1431108000@design.latech.edu
SUMMARY:SOD Awards Ceremony
DESCRIPTION:PLEASE JOIN US AS WE RECOGNIZE STUDENTS FROM:\n\nArchitecture\n\nInterior Design\n\nGraphic Design\n\nStudio Art\n\nFRIDAY\, MAY 8TH at 4:00PM UNIVERSITY HALL\n\nhors d’oeuvres following awards ceremony
URL:http://design.latech.edu/event/sod-awards-ceremony/
LOCATION:Louisiana Tech University\, Ruston\, LA\, 71272\, United States
ATTACH;FMTTYPE=image/gif:http://design.latech.edu/wp-content/uploads/2015/05/SOD-awards_V1-1.gif
END:VEVENT
END:VCALENDAR